BEGIN:VCALENDAR
VERSION:2.0
PRODID:-//240 Northern - ECPv6.2.2//NONSGML v1.0//EN
CALSCALE:GREGORIAN
METHOD:PUBLISH
X-WR-CALNAME:240 Northern
X-ORIGINAL-URL:https://240northern.com
X-WR-CALDESC:Events for 240 Northern
REFRESH-INTERVAL;VALUE=DURATION:PT1H
X-Robots-Tag:noindex
X-PUBLISHED-TTL:PT1H
BEGIN:VTIMEZONE
TZID:UTC
BEGIN:STANDARD
TZOFFSETFROM:+0000
TZOFFSETTO:+0000
TZNAME:UTC
DTSTART:20230101T000000
END:STANDARD
TZID:America/Los_Angeles
BEGIN:DAYLIGHT
TZOFFSETFROM:-0800
TZOFFSETTO:-0700
TZNAME:PDT
DTSTART:20240310T100000
END:DAYLIGHT
BEGIN:STANDARD
TZOFFSETFROM:-0700
TZOFFSETTO:-0800
TZNAME:PST
DTSTART:20241103T090000
END:STANDARD
END:VTIMEZONE
BEGIN:VEVENT
DTSTART;TZID=UTC:20260308T140000
DTEND;TZID=UTC:20260308T160000
DTSTAMP:20260420T214512
CREATED:20260126T170749Z
LAST-MODIFIED:20260126T171613Z
UID:704-1772978400-1772985600@240northern.com
SUMMARY:Pulse Party #10 – Calling all Vancouver percussionists!
DESCRIPTION:Get your ticket now! \nJoin us for Pulse Party #10\, a vibrant community event celebrating all things percussion! Pulse Party is an open invitation for percussionists of all styles and backgrounds to come together\, share performances\, test out new repertoire\, connect\, and collaborate. \nThe public is always invited too!\nWhether you’re a musician\, a music lover\, or just percussion-curious\, come experience the wide world of rhythm. Discover the rich variety of percussion music—from classical to contemporary\, experimental to traditional—and see what our local community has to offer. \nExpect an informal\, welcoming atmosphere with: \n\nPerformances by local percussionists\nSpace for conversation\, collaboration\, and connection\nA chance to explore the incredible diversity of the percussion world\n\nWhether you’re playing or just listening\, Pulse Party is all about community\, creativity\, and connection through rhythm. Come join us! \nInterested in performing or sharing something? Contact us at info[at|240northern.com or on Instagram at @240_northern \nAll donations go directly toward creating more community-driven percussion events like this one—thank you for your support! \n  \nHow to be a participant : \nSelect your percussion instrument of choice – be it drums\, marimba\, steel pans\, or any other unique sound creator. \nHelp us shape future rhythmic gatherings. \nWe’ll craft an event lineup that reflects our diverse community’s talent. \nYou can also reach out to info[at]240northern.com or at @240_northern on Instagram \nInstruments available in the studio:
URL:https://240northern.com/event/pulse-party-10-calling-all-vancouver-percussionists/
ATTACH;FMTTYPE=image/jpeg:https://240northern.com/wp-content/uploads/2026/01/Pulse-Party-10.jpg
END:VEVENT
BEGIN:VEVENT
DTSTART;TZID=UTC:20251116T140000
DTEND;TZID=UTC:20251116T160000
DTSTAMP:20260420T214512
CREATED:20250923T184845Z
LAST-MODIFIED:20250923T185027Z
UID:699-1763301600-1763308800@240northern.com
SUMMARY:Pulse Party #9 – Calling all Vancouver percussionists!
DESCRIPTION:Get your ticket now! \nJoin us for Pulse Party #9\, a vibrant community event celebrating all things percussion! Pulse Party is an open invitation for percussionists of all styles and backgrounds to come together\, share performances\, test out new repertoire\, connect\, and collaborate. \nThe public is always invited too!\nWhether you’re a musician\, a music lover\, or just percussion-curious\, come experience the wide world of rhythm. Discover the rich variety of percussion music—from classical to contemporary\, experimental to traditional—and see what our local community has to offer. \nExpect an informal\, welcoming atmosphere with: \n\nPerformances by local percussionists\nSpace for conversation\, collaboration\, and connection\nA chance to explore the incredible diversity of the percussion world\n\nWhether you’re playing or just listening\, Pulse Party is all about community\, creativity\, and connection through rhythm. Come join us! \n???? Interested in performing or sharing something? Contact us at info[at|240northern.com or on Instagram at @240_northern \nAll donations go directly toward creating more community-driven percussion events like this one—thank you for your support! \n  \nHow to be a participant : \nSelect your percussion instrument of choice – be it drums\, marimba\, steel pans\, or any other unique sound creator. \nHelp us shape future rhythmic gatherings. \nWe’ll craft an event lineup that reflects our diverse community’s talent. \nYou can also reach out to info[at]240northern.com or at @240_northern on Instagram \nInstruments available in the studio:
URL:https://240northern.com/event/pulse-party-9-calling-all-vancouver-percussionists/
LOCATION:240 Northern\, 240 Northern\, Vancouver\, BC\, V6A 3R7\, Canada
ATTACH;FMTTYPE=image/jpeg:https://240northern.com/wp-content/uploads/2025/04/Pulse-Party-9.jpg
END:VEVENT
BEGIN:VEVENT
DTSTART;TZID=UTC:20250706T140000
DTEND;TZID=UTC:20250706T160000
DTSTAMP:20260420T214512
CREATED:20250417T072136Z
LAST-MODIFIED:20250923T184826Z
UID:679-1751810400-1751817600@240northern.com
SUMMARY:Pulse Party #8 – Calling all Vancouver percussionists!
DESCRIPTION:Get your ticket now! \nJoin us for Pulse Party #8\, a vibrant community event celebrating all things percussion! Pulse Party is an open invitation for percussionists of all styles and backgrounds to come together\, share performances\, test out new repertoire\, connect\, and collaborate. \n???? The public is always invited too!\nWhether you’re a musician\, a music lover\, or just percussion-curious\, come experience the wide world of rhythm. Discover the rich variety of percussion music—from classical to contemporary\, experimental to traditional—and see what our local community has to offer. \nExpect an informal\, welcoming atmosphere with: \n\nPerformances by local percussionists\nSpace for conversation\, collaboration\, and connection\nA chance to explore the incredible diversity of the percussion world\n\nWhether you’re playing or just listening\, Pulse Party is all about community\, creativity\, and connection through rhythm. Come join us! \n???? Interested in performing or sharing something? Contact us at info[at|240northern.com or on Instagram at @240_northern \nAll donations go directly toward creating more community-driven percussion events like this one—thank you for your support! \n  \nHow to be a participant : \nSelect your percussion instrument of choice – be it drums\, marimba\, steel pans\, or any other unique sound creator. \nHelp us shape future rhythmic gatherings. \nWe’ll craft an event lineup that reflects our diverse community’s talent. \nYou can also reach out to info[at]240northern.com or at @240_northern on Instagram \nInstruments available in the studio:
URL:https://240northern.com/event/pulse-party-8-calling-all-vancouver-percussionists/
LOCATION:240 Northern\, 240 Northern\, Vancouver\, BC\, V6A 3R7\, Canada
ATTACH;FMTTYPE=image/jpeg:https://240northern.com/wp-content/uploads/2025/04/Pulse-Party-8_IG_Poster.jpg
END:VEVENT
BEGIN:VEVENT
DTSTART;TZID=UTC:20250629T140000
DTEND;TZID=UTC:20250629T150000
DTSTAMP:20260420T214512
CREATED:20250417T071513Z
LAST-MODIFIED:20250502T060517Z
UID:673-1751205600-1751209200@240northern.com
SUMMARY:240 Northern Percussion Ensemble on Bowen Island
DESCRIPTION:Join 240 Northern Percussion Ensemble for a vibrant summer concert filled with the rich\, resonant sounds of marimba! Featuring exciting arrangements\, bold transcriptions\, and beloved percussion classics\, this family-friendly performance is the perfect way to enjoy music outdoors. Whether you’re a percussion fan or just looking for a unique and joyful evening\, this show will have something for everyone. Bring your friends\, pack a picnic\, and don’t miss this rhythm-filled celebration of music\, community\, and summer vibes! \nGet your tickets now!\n 
URL:https://240northern.com/event/240-northern-percussion-ensemble/
LOCATION:Tir-na-nOg Theatre\, 585 Rivendell Dr\, Bowen Island\, BC\, V0N 1G1\, Canada
ATTACH;FMTTYPE=image/png:https://240northern.com/wp-content/uploads/2025/04/240-NPE_Bowen-Island_website.png
END:VEVENT
BEGIN:VEVENT
DTSTART;TZID=UTC:20250413T180000
DTEND;TZID=UTC:20250413T200000
DTSTAMP:20260420T214512
CREATED:20250307T204307Z
LAST-MODIFIED:20250307T204627Z
UID:664-1744567200-1744574400@240northern.com
SUMMARY:Pulse Party #7 – Calling all Vancouver percussionists!
DESCRIPTION:We’re back! \nCalling all Vancouver percussionists – let’s build a vibrant rhythm community together! \n  \nConnect: Meet fellow percussionists and bond over shared rhythms. \nShowcase: Put your percussive talents on display and inspire others. \nCollaborate: Explore potential collaborations and creative exchanges. \n  \nHow to be a participant :\n(it’s also open to the public to watch!) \nSelect your percussion instrument of choice – be it drums\, marimba\, steel pans\, or any other unique sound creator. \nHelp us shape future rhythmic gatherings. \nWe’ll craft an event lineup that reflects our diverse community’s talent. \n  \nYou can also reach out to info[at]240northern.com or at @240_northern on Instagram \nInstruments available in the studio: \n \nEvent Details: \nName: 240 Northern Pulse Party #7 \nDate: April 13\, 2025 \nTime: 6:00PM \nLocation: 240 Northern\, Vancouver
URL:https://240northern.com/event/pulse-party-7-calling-all-vancouver-percussionists/
ATTACH;FMTTYPE=image/jpeg:https://240northern.com/wp-content/uploads/2025/03/Pulse-Party-7.jpg
END:VEVENT
BEGIN:VEVENT
DTSTART;TZID=UTC:20250218T190000
DTEND;TZID=UTC:20250218T203000
DTSTAMP:20260420T214512
CREATED:20250307T204536Z
LAST-MODIFIED:20250307T204536Z
UID:666-1739905200-1739910600@240northern.com
SUMMARY:Pulse Party #6 – Calling all Vancouver percussionists!
DESCRIPTION:We’re back! \nCalling all Vancouver percussionists – let’s build a vibrant rhythm community together! \n  \nConnect: Meet fellow percussionists and bond over shared rhythms. \nShowcase: Put your percussive talents on display and inspire others. \nCollaborate: Explore potential collaborations and creative exchanges. \n  \nHow to be a participant :\n(it’s also open to the public to watch!) \nSelect your percussion instrument of choice – be it drums\, marimba\, steel pans\, or any other unique sound creator. \nHelp us shape future rhythmic gatherings. \nWe’ll craft an event lineup that reflects our diverse community’s talent. \n  \nYou can also reach out to info[at]240northern.com or at @240_northern on Instagram \nInstruments available in the studio: \n \nEvent Details: \nName: 240 Northern Pulse Party #6 \nDate: February 18\, 2025 \nTime: 7:00PM \nLocation: 240 Northern\, Vancouver
URL:https://240northern.com/event/pulse-party-6-calling-all-vancouver-percussionists/
LOCATION:240 Northern\, 240 Northern\, Vancouver\, BC\, V6A 3R7\, Canada
END:VEVENT
BEGIN:VEVENT
DTSTART;TZID=UTC:20241016T190000
DTEND;TZID=UTC:20241016T220000
DTSTAMP:20260420T214512
CREATED:20240829T231353Z
LAST-MODIFIED:20240829T231353Z
UID:656-1729105200-1729116000@240northern.com
SUMMARY:Pulse Party #5 – Gear swap edition!
DESCRIPTION:Calling all Vancouver percussionists – let’s build a vibrant rhythm community together! \nWe’re back\, this time with our first ”Gear swap edition”! \nBring any mallets/small instruments that are collecting dust in your studio and swap them something you want from another fellow percussionist! \n  \nConnect: Meet fellow percussionists and bond over shared rhythms. \nShowcase: Put your percussive talents on display and inspire others. \nCollaborate: Explore potential collaborations and creative exchanges. \n  \nHow to be a participant :\n(it’s also open for the public to watch!) \nSelect your percussion instrument of choice – be it drums\, marimba\, steel pans\, or any other unique sound creator. \nHelp us shape future rhythmic gatherings. \nWe’ll craft an event lineup that reflects our diverse community’s talent. \n  \nYou can also reach out to info[at]240northern.com or at @240_northern on Instagram \nInstruments available in the studio:
URL:https://240northern.com/event/pulse-party-5-gear-swap-edition/
ATTACH;FMTTYPE=image/png:https://240northern.com/wp-content/uploads/2024/02/Pulse-Party-5.png
END:VEVENT
BEGIN:VEVENT
DTSTART;TZID=UTC:20240721T150000
DTEND;TZID=UTC:20240721T170000
DTSTAMP:20260420T214512
CREATED:20240529T191757Z
LAST-MODIFIED:20240720T055557Z
UID:644-1721574000-1721581200@240northern.com
SUMMARY:Day of Music / 24-25 Season Fundraiser
DESCRIPTION:Get ready for an unforgettable musical experience! Join us for a diverse lineup of artists\, all coming together to support the next season of our beloved studio. This event will take you on a sonic journey across genres\, showcasing local musicians. \nSupport the Cause: All proceeds from the event will go towards funding the next season of the studio\, ensuring we can continue to provide a creative space for artists and offer diverse programming for our community. \nCome for the music\, stay for the cause! Let’s make this a day to remember and help our studio thrive for seasons to come. See you there! \nFeaturing 240 Percussion Ensemble\, Laptop Orchestra\, Guardia Nueva & more!
URL:https://240northern.com/event/day-of-music-24-25-season-fundraiser/
LOCATION:240 Northern\, 240 Northern\, Vancouver\, BC\, V6A 3R7\, Canada
ATTACH;FMTTYPE=image/jpeg:https://240northern.com/wp-content/uploads/2024/05/240-Medley.jpg
END:VEVENT
BEGIN:VEVENT
DTSTART;TZID=UTC:20240414T150000
DTEND;TZID=UTC:20240414T170000
DTSTAMP:20260420T214512
CREATED:20240222T180644Z
LAST-MODIFIED:20240829T231324Z
UID:640-1713106800-1713114000@240northern.com
SUMMARY:Pulse Party #4 – Calling all Vancouver percussionists!
DESCRIPTION:We’re back! \nCalling all Vancouver percussionists – let’s build a vibrant rhythm community together! \n  \nConnect: Meet fellow percussionists and bond over shared rhythms. \nShowcase: Put your percussive talents on display and inspire others. \nCollaborate: Explore potential collaborations and creative exchanges. \n  \nHow to be a participant :\n(it’s also open to the public to watch!) \nSelect your percussion instrument of choice – be it drums\, marimba\, steel pans\, or any other unique sound creator. \nHelp us shape future rhythmic gatherings. \nWe’ll craft an event lineup that reflects our diverse community’s talent. \n  \nYou can also reach out to info[at]240northern.com or at @240_northern on Instagram \nInstruments available in the studio: \n \nEvent Details: \nName: 240 Northern Pulse Party \nDate: April 14\, 2024 \nTime: 3:00PM \nLocation: 240 Northern\, Vancouver
URL:https://240northern.com/event/pulse-party-4/
LOCATION:240 Northern\, 240 Northern\, Vancouver\, BC\, V6A 3R7\, Canada
ATTACH;FMTTYPE=image/png:https://240northern.com/wp-content/uploads/2024/02/Pulse-Party-4_IG.png
END:VEVENT
BEGIN:VEVENT
DTSTART;TZID=UTC:20240303T150000
DTEND;TZID=UTC:20240303T170000
DTSTAMP:20260420T214512
CREATED:20240220T060357Z
LAST-MODIFIED:20240222T180700Z
UID:637-1709478000-1709485200@240northern.com
SUMMARY:Pulse Party #3 - Calling all Vancouver percussionists!
DESCRIPTION:We’re back! \nCalling all Vancouver percussionists – let’s build a vibrant rhythm community together!  \n  \nConnect: Meet fellow percussionists and bond over shared rhythms. \nShowcase: Put your percussive talents on display and inspire others. \nCollaborate: Explore potential collaborations and creative exchanges. \n  \nHow to be a participant :\n(it’s also open to the public to watch!)\n \nSelect your percussion instrument of choice – be it drums\, marimba\, steel pans\, or any other unique sound creator. \nHelp us shape future rhythmic gatherings. \nWe’ll craft an event lineup that reflects our diverse community’s talent. \n  \nYou can also reach out to info[at]240northern.com or at @240_northern on Instagram \nInstruments available in the studio: \n \nEvent Details: \nName: 240 Northern Pulse Party \nDate: March 3\, 2024 \nTime: 3:00PM \nLocation: 240 Northern\, Vancouver
URL:https://240northern.com/event/pulse-party-3-calling-all-vancouver-percussionists/
LOCATION:240 Northern\, 240 Northern\, Vancouver\, BC\, V6A 3R7\, Canada
ATTACH;FMTTYPE=image/png:https://240northern.com/wp-content/uploads/2024/02/Pulse-Party-3.png
END:VEVENT
BEGIN:VEVENT
DTSTART;TZID=America/Los_Angeles:20240206T193000
DTEND;TZID=America/Los_Angeles:20240206T213000
DTSTAMP:20260420T214512
CREATED:20240201T163941Z
LAST-MODIFIED:20240201T164644Z
UID:631-1707247800-1707255000@240northern.com
SUMMARY:Call for score show
DESCRIPTION:Our call for scores show is coming up Feb 6! \nDon’t miss works by Sophian Alkurdi\, Anuj Bhutani\, Martin J. Van Klompenberg & Sam Meadahl. \nAll the percussion quartets will be played by amazing local musicians: \nNiki Hung\nAmber Chen\nAllan Perpose\nLuke Hildebrandt\nGreg Samek\nGaël Chabot-Leclerc \nThis event will be recorded \nFeb 6\, 7:30pm\nTickets: name your price ($20 suggested)\n240 Northern\, Vancouver
URL:https://240northern.com/event/call-for-score-show/
LOCATION:240 Northern\, 240 Northern\, Vancouver\, BC\, V6A 3R7\, Canada
ATTACH;FMTTYPE=image/png:https://240northern.com/wp-content/uploads/2024/02/F15FEBB3-8BEC-4831-8AA5-654D4B4B879C.png
END:VEVENT
BEGIN:VEVENT
DTSTART;TZID=UTC:20231212T190000
DTEND;TZID=UTC:20231212T213000
DTSTAMP:20260420T214512
CREATED:20231023T201053Z
LAST-MODIFIED:20231115T040031Z
UID:590-1702407600-1702416600@240northern.com
SUMMARY:Pulse Party #2 - Calling all Vancouver percussionists!
DESCRIPTION:We’re back! \nCalling all Vancouver percussionists – let’s build a vibrant rhythm community together!  \n  \nConnect: Meet fellow percussionists and bond over shared rhythms. \nShowcase: Put your percussive talents on display and inspire others. \nCollaborate: Explore potential collaborations and creative exchanges. \n  \nHow to be a participant :\n(it’s also open to the public to watch!)\n \nSelect your percussion instrument of choice – be it drums\, marimba\, steel pans\, or any other unique sound creator. \nTell us about what you’d love to play by Dec 8. Help us shape future rhythmic gatherings. \nWe’ll craft an event lineup that reflects our diverse community’s talent. \n  \nTo participate\, please fill out this form. You can also reach out to info[at]240northern.com or at @240_northern on Instagram \nInstruments available in the studio: \n \nEvent Details: \nName: 240 Northern Pulse Party \nDate: Dec 12\, 2023 \nTime: 7:30PM \nLocation: 240 Northern\, Vancouver
URL:https://240northern.com/event/pulse-party-2-calling-all-vancouver-percussionists/
ATTACH;FMTTYPE=image/jpeg:https://240northern.com/wp-content/uploads/2023/10/Pulse-Party-2.jpeg
END:VEVENT
BEGIN:VEVENT
DTSTART;TZID=UTC:20231128T193000
DTEND;TZID=UTC:20231128T213000
DTSTAMP:20260420T214512
CREATED:20230914T055627Z
LAST-MODIFIED:20231023T194552Z
UID:481-1701199800-1701207000@240northern.com
SUMMARY:Guardia Nueva - "Tango Rhythms Redefined"
DESCRIPTION:Join us for an extraordinary evening of tango rhythms redefined at 240 Northern\, Vancouver. Get ready to immerse yourself in the passionate world of tango\, where music and dance come together in perfect harmony. Experience Guardia Nueva as they bring a fresh twist to traditional tango melodies\, infusing them with modern sounds and rhythms. This in-person event promises to transport you to the vibrant streets of Buenos Aires\, where the tango was born. Don’t miss this opportunity to witness the evolution of tango music firsthand. Grab your dancing shoes and come ready to be swept away by the enchanting melodies and captivating rhythms of Guardia Nueva. \nTickets available here.
URL:https://240northern.com/event/guardia-nueva/
LOCATION:240 Northern\, 240 Northern\, Vancouver\, BC\, V6A 3R7\, Canada
ATTACH;FMTTYPE=image/jpeg:https://240northern.com/wp-content/uploads/2023/10/GuardiaNueva.jpeg
END:VEVENT
BEGIN:VEVENT
DTSTART;TZID=UTC:20231117T193000
DTEND;TZID=UTC:20231117T213000
DTSTAMP:20260420T214512
CREATED:20230914T055333Z
LAST-MODIFIED:20231023T194513Z
UID:479-1700249400-1700256600@240northern.com
SUMMARY:davis & james
DESCRIPTION:davis & james is a west coast duo formed in 2021. james brings to the duo his background as an orchestral violinist\, classical chamber musician\, and session violinist on a range of projects from math rock to alt-indie. In contrast\, davis is a self-taught guitarist\, vocalist\, and singer-songwriter. Collaborating throughout the show-less months of covid\, the duo was conceived as an exploration of a new soundscape: the intersection of their classical and indie-folk roots\, with influence from the artists who got them through quarantines: Leif Vollebekk\, Whitney\, Leon Bridges\, S. Carey\, Raveena\, The Japanese House\, and\, of course\, Joni Mitchell\, the staple of their pandemic playlists. \n\nAt the heart of the project is an evolving conversation between vocals and violin. Voice and instrument mirror\, echo\, and contrast each other\, passing back and forth the thread of both melody and meaning. The conversation is held against a palette of acoustic guitar\, from which the violin and vocal melodies draw their colours. Other tones and textures are provided by the bright 12-string\, a dulcimer-esque M4\, warm electric guitar\, analog drum machines\, synth keys\, layered vocal harmonies\, and a slightly out-of-tune upright piano. The vibe is nostalgic film-grain\, it’s you wrapped in a blanket of warm comfort and soft hope\, it’s love\, time\, beauty\, art: the fleeting everyday moments that make life precious. This is davis & james\, an experience that will leave you with a welcome dose of the existentials.\n\nTickets available here.
URL:https://240northern.com/event/davis-james/
LOCATION:240 Northern\, 240 Northern\, Vancouver\, BC\, V6A 3R7\, Canada
ATTACH;FMTTYPE=image/jpeg:https://240northern.com/wp-content/uploads/2023/09/davis-james-press-photo-1-1.jpeg
END:VEVENT
BEGIN:VEVENT
DTSTART;TZID=UTC:20231107T183000
DTEND;TZID=UTC:20231107T213000
DTSTAMP:20260420T214512
CREATED:20231011T172103Z
LAST-MODIFIED:20231011T172246Z
UID:556-1699381800-1699392600@240northern.com
SUMMARY:Improv Karaoke #11
DESCRIPTION:Coming on a Tuesday near you…\nCome play improvised music in a collaborative setting! Open to improvising musicians of all genres and experience levels. Small ensembles will be randomly created from musicians that register (that’s you!) to play short sets together. \n\nFree/$10/$20/$xx\nAdmission is free; donations are welcome at the door (cash only) and will go towards 240 Northern\nSet up 6:30pm\nMusic 7-9:30pm\nFree tea and snacks provided – Help us reduce waste and BYOBottle!\n\n  \nTo participate\, please register via Eventbrite: \n\nRegistrations will open 1 week prior to each monthly event.\nDrop-in registrations at the door are available but capacity-dependent\nListeners are always welcome and do not need to register.\n\nThank you for coming out and supporting the improvised music community. We have a limited number of honorariums for registered participants! \n  \nAccessibility Note: There are stairs when entering 240 Northern. Please contact us if you need help! \nBring your instruments\, cables\, and smiles! \nAvailable on-site: drum set\, piano\, guitar amp(s)\, whack-able percussion instruments\, PA system. \nCo-hosted by Andrea Wong\, Spencer Schoening\, Mike WT Allen\, and Matthew Ariaratnam
URL:https://240northern.com/event/improv-karaoke-11/
ATTACH;FMTTYPE=image/jpeg:https://240northern.com/wp-content/uploads/2023/10/https___cdn.evbuc_.com_images_614336129_1501479413833_1_original.jpg
END:VEVENT
BEGIN:VEVENT
DTSTART;TZID=UTC:20231022T140000
DTEND;TZID=UTC:20231022T160000
DTSTAMP:20260420T214512
CREATED:20230914T054522Z
LAST-MODIFIED:20231023T200349Z
UID:476-1697983200-1697990400@240northern.com
SUMMARY:Pulse Party #1 - Calling all Vancouver percussionists!
DESCRIPTION:Calling all Vancouver percussionists – let’s build a vibrant rhythm community together!  \n  \nConnect: Meet fellow percussionists and bond over shared rhythms. \nShowcase: Put your percussive talents on display and inspire others. \nCollaborate: Explore potential collaborations and creative exchanges. \n  \nHow to be a participant :\n(it’s also open to the public to watch!)\n \nSelect your percussion instrument of choice – be it drums\, marimba\, steel pans\, or any other unique sound creator. \nTell us about what you’d love to play by Oct 20. Help us shape future rhythmic gatherings. \nWe’ll craft an event lineup that reflects our diverse community’s talent. \n  \nTo participate\, please fill out this form. You can also reach out to info[at]240northern.com or at @240_northern on Instagram \nInstruments available in the studio: \n\n5.0 octave Marimba One\nM55 Vibraphone\nGlockenspiel\nDrums\nWide range of cymbals\nMix of small instruments and accessories\n\nEvent Details: \nName: 240 Northern Pulse Party \nDate: Oct 22\, 2023 \nTime: 2PM \nLocation: 240 Northern\, Vancouver
URL:https://240northern.com/event/pulse-party-calling-all-vancouver-percussionists/
LOCATION:240 Northern\, 240 Northern\, Vancouver\, BC\, V6A 3R7\, Canada
ATTACH;FMTTYPE=image/jpeg:https://240northern.com/wp-content/uploads/2023/09/8.5x11_Pulse-Party_Oct-22-2023-e1695184221591.jpg
END:VEVENT
END:VCALENDAR