BEGIN:VCALENDAR
VERSION:2.0
PRODID:-//240 Northern - ECPv6.2.2//NONSGML v1.0//EN
CALSCALE:GREGORIAN
METHOD:PUBLISH
X-WR-CALNAME:240 Northern
X-ORIGINAL-URL:https://240northern.com
X-WR-CALDESC:Events for 240 Northern
REFRESH-INTERVAL;VALUE=DURATION:PT1H
X-Robots-Tag:noindex
X-PUBLISHED-TTL:PT1H
BEGIN:VTIMEZONE
TZID:UTC
BEGIN:STANDARD
TZOFFSETFROM:+0000
TZOFFSETTO:+0000
TZNAME:UTC
DTSTART:20230101T000000
END:STANDARD
END:VTIMEZONE
BEGIN:VEVENT
DTSTART;TZID=UTC:20231107T183000
DTEND;TZID=UTC:20231107T213000
DTSTAMP:20260423T002000
CREATED:20231011T172103Z
LAST-MODIFIED:20231011T172246Z
UID:556-1699381800-1699392600@240northern.com
SUMMARY:Improv Karaoke #11
DESCRIPTION:Coming on a Tuesday near you…\nCome play improvised music in a collaborative setting! Open to improvising musicians of all genres and experience levels. Small ensembles will be randomly created from musicians that register (that’s you!) to play short sets together. \n\nFree/$10/$20/$xx\nAdmission is free; donations are welcome at the door (cash only) and will go towards 240 Northern\nSet up 6:30pm\nMusic 7-9:30pm\nFree tea and snacks provided – Help us reduce waste and BYOBottle!\n\n  \nTo participate\, please register via Eventbrite: \n\nRegistrations will open 1 week prior to each monthly event.\nDrop-in registrations at the door are available but capacity-dependent\nListeners are always welcome and do not need to register.\n\nThank you for coming out and supporting the improvised music community. We have a limited number of honorariums for registered participants! \n  \nAccessibility Note: There are stairs when entering 240 Northern. Please contact us if you need help! \nBring your instruments\, cables\, and smiles! \nAvailable on-site: drum set\, piano\, guitar amp(s)\, whack-able percussion instruments\, PA system. \nCo-hosted by Andrea Wong\, Spencer Schoening\, Mike WT Allen\, and Matthew Ariaratnam
URL:https://240northern.com/event/improv-karaoke-11/
LOCATION:BC
ATTACH;FMTTYPE=image/jpeg:https://240northern.com/wp-content/uploads/2023/10/https___cdn.evbuc_.com_images_614336129_1501479413833_1_original.jpg
END:VEVENT
BEGIN:VEVENT
DTSTART;TZID=UTC:20231022T140000
DTEND;TZID=UTC:20231022T160000
DTSTAMP:20260423T002000
CREATED:20230914T054522Z
LAST-MODIFIED:20231023T200349Z
UID:476-1697983200-1697990400@240northern.com
SUMMARY:Pulse Party #1 - Calling all Vancouver percussionists!
DESCRIPTION:Calling all Vancouver percussionists – let’s build a vibrant rhythm community together!  \n  \nConnect: Meet fellow percussionists and bond over shared rhythms. \nShowcase: Put your percussive talents on display and inspire others. \nCollaborate: Explore potential collaborations and creative exchanges. \n  \nHow to be a participant :\n(it’s also open to the public to watch!)\n \nSelect your percussion instrument of choice – be it drums\, marimba\, steel pans\, or any other unique sound creator. \nTell us about what you’d love to play by Oct 20. Help us shape future rhythmic gatherings. \nWe’ll craft an event lineup that reflects our diverse community’s talent. \n  \nTo participate\, please fill out this form. You can also reach out to info[at]240northern.com or at @240_northern on Instagram \nInstruments available in the studio: \n\n5.0 octave Marimba One\nM55 Vibraphone\nGlockenspiel\nDrums\nWide range of cymbals\nMix of small instruments and accessories\n\nEvent Details: \nName: 240 Northern Pulse Party \nDate: Oct 22\, 2023 \nTime: 2PM \nLocation: 240 Northern\, Vancouver
URL:https://240northern.com/event/pulse-party-calling-all-vancouver-percussionists/
LOCATION:240 Northern\, 240 Northern\, Vancouver\, BC\, V6A 3R7\, Canada
ATTACH;FMTTYPE=image/jpeg:https://240northern.com/wp-content/uploads/2023/09/8.5x11_Pulse-Party_Oct-22-2023-e1695184221591.jpg
END:VEVENT
END:VCALENDAR